BEGIN:VCALENDAR
VERSION:2.0
PRODID:-//BioMe - ECPv6.15.20//NONSGML v1.0//EN
CALSCALE:GREGORIAN
METHOD:PUBLISH
X-WR-CALNAME:BioMe
X-ORIGINAL-URL:https://biomaine.org
X-WR-CALDESC:Events for BioMe
REFRESH-INTERVAL;VALUE=DURATION:PT1H
X-Robots-Tag:noindex
X-PUBLISHED-TTL:PT1H
BEGIN:VTIMEZONE
TZID:UTC
BEGIN:STANDARD
TZOFFSETFROM:+0000
TZOFFSETTO:+0000
TZNAME:UTC
DTSTART:20220101T000000
END:STANDARD
END:VTIMEZONE
BEGIN:VEVENT
DTSTART;TZID=UTC:20230503T130000
DTEND;TZID=UTC:20230503T180000
DTSTAMP:20260421T014828
CREATED:20230320T172926Z
LAST-MODIFIED:20230320T182034Z
UID:11083-1683118800-1683136800@biomaine.org
SUMMARY:BioME Student Showcase 2023
DESCRIPTION:[vc_row][vc_column][vc_column_text] \nA Maine life science research competition\nAn opportunity for Maine high school and college students to show off their passion for life science\, and present their research for a chance to win cash and academic prizes. \nThe goal of this event is to support innovation and commercialization of student ideas in Maine\, as well as connect current students with potential future employers and entrepreneurial resources in the state. \nBioME Student Showcase features TWO competition categories: (1) high school students (grades 9-12) and (2) college students (undergraduate and graduate). Students must be enrolled in Maine educational institutions to participate. Judges for the BioME Student Showcase include Maine scientists\, entrepreneurs\, academia and start-up/commercialization experts. \nThis event is open to our members and supporters. Join the event and meet Maine’s future scientists![/vc_column_text][vc_row_inner][vc_column_inner width=”1/2″][vc_btn style=”btn-1 secondary” title=”REGISTER AS AUDIENCE” link=”url:https%3A%2F%2Fwww.eventbrite.com%2Fe%2Fbiome-student-showcase-tickets-594876380267|target:_blank”][/vc_column_inner][vc_column_inner width=”1/2″][vc_btn style=”btn-1″ title=”STUDENT INFORMATION” link=”url:https%3A%2F%2Fbiomaine.org%2Fbiome-student-showcase%2F|target:_blank”][/vc_column_inner][/vc_row_inner][vc_column_text] \nAgenda\n[/vc_column_text][vc_column_text]1:00-1:30PM Registration & Poster Setup\n1:30-3:00PM High School Poster Competition\n3:00-4:00PM Coffee/Snack Break & High School Winners Announcement\n4:00-5:00PM College Fast-Pitch Competition\n5:00-6:00PM College Fast-Pitch Winners Announcement & Mini Reception[/vc_column_text][vc_column_text] \nEvent Sponsors\n[/vc_column_text][vc_single_image image=”11089″ img_size=”full”][/vc_column][/vc_row]
URL:https://biomaine.org/event/biome-student-showcase-2023/
LOCATION:Bangor Arts Exchange\, 193 Exchange St\, Bangor\, ME\, 04401\, United States
ATTACH;FMTTYPE=image/png:https://biomaine.org/wp-content/uploads/2023/03/BioME-Student-Showcase-2023-copy.png
ORGANIZER;CN="BioME":MAILTO:info@mainebioscience.org
END:VEVENT
END:VCALENDAR